BEGIN:VCALENDAR
VERSION:2.0
PRODID: -//Q4 Inc.//EN
METHOD:PUBLISH
BEGIN:VTIMEZONE
TZID:America/New_York
X-LIC-LOCATION:America/New_York
BEGIN:DAYLIGHT
TZOFFSETFROM:-0500
TZOFFSETTO:-0400
TZNAME:EDT
DTSTART:19700308T020000
RRULE:FREQ=YEARLY;BYMONTH=3;BYDAY=2SU
END:DAYLIGHT
BEGIN:STANDARD
TZOFFSETFROM:-0400
TZOFFSETTO:-0500
TZNAME:EST
DTSTART:19701101T020000
RRULE:FREQ=YEARLY;BYMONTH=11;BYDAY=1SU
END:STANDARD
END:VTIMEZONE
BEGIN:VEVENT
ORGANIZER:MAILTO:ir@sharkninja.com
DTSTART;TZID="America/New_York":20260211T083000
DTEND;TZID="America/New_York":20260211T093000
LOCATION:
UID:d6cd0434-dbba-493f-97ed-e5fa231df377
DTSTAMP:20260421T121626
SUMMARY:SharkNinja’s 4Q25 and FY25 Earnings Call
DESCRIPTION: View More Information: https://ir.sharkninja.com/events-and-presentations/events/event-details/2026/SharkNinjas-4Q25-and-FY25-Earnings-Call/default.aspx
URL;VALUE=URI:https://ir.sharkninja.com/events-and-presentations/events/event-details/2026/SharkNinjas-4Q25-and-FY25-Earnings-Call/default.aspx
PRIORITY:5
CLASS:PUBLIC
END:VEVENT
END:VCALENDAR
